BEGIN:VCALENDAR
VERSION:2.0
PRODID:-//North Star Group - ECPv6.15.17.1//NONSGML v1.0//EN
CALSCALE:GREGORIAN
METHOD:PUBLISH
X-ORIGINAL-URL:https://northstargrp.com
X-WR-CALDESC:Events for North Star Group
REFRESH-INTERVAL;VALUE=DURATION:PT1H
X-Robots-Tag:noindex
X-PUBLISHED-TTL:PT1H
BEGIN:VTIMEZONE
TZID:UTC
BEGIN:STANDARD
TZOFFSETFROM:+0000
TZOFFSETTO:+0000
TZNAME:UTC
DTSTART:20240101T000000
END:STANDARD
END:VTIMEZONE
BEGIN:VEVENT
DTSTART;TZID=UTC:20250929T000000
DTEND;TZID=UTC:20251003T000000
DTSTAMP:20260420T201154
CREATED:20250711T025419Z
LAST-MODIFIED:20250711T025419Z
UID:22851-1759104000-1759449600@northstargrp.com
SUMMARY:Alaska Entrepreneurship Week
DESCRIPTION:All Day
URL:https://northstargrp.com/events-calendar/alaska-entrepreneurship-week/
LOCATION:Alaska
CATEGORIES:Event
END:VEVENT
BEGIN:VEVENT
DTSTART;TZID=UTC:20250929T000000
DTEND;TZID=UTC:20251003T000000
DTSTAMP:20260420T201154
CREATED:20250817T141520Z
LAST-MODIFIED:20250817T141520Z
UID:23145-1759104000-1759449600@northstargrp.com
SUMMARY:Geostatistical Evaluation
DESCRIPTION:All Day
URL:https://northstargrp.com/events-calendar/geostatistical-evaluation/
LOCATION:Alaska
CATEGORIES:Seminar
END:VEVENT
BEGIN:VEVENT
DTSTART;TZID=UTC:20250929T000000
DTEND;TZID=UTC:20251005T000000
DTSTAMP:20260420T201154
CREATED:20250711T025419Z
LAST-MODIFIED:20250711T025419Z
UID:22850-1759104000-1759622400@northstargrp.com
SUMMARY:Naapinneq – Inuit Kalaallit Nunavummiullu/ Gathering – Inuit from Greenland and Nunavut
DESCRIPTION:All Day
URL:https://northstargrp.com/events-calendar/naapinneq-inuit-kalaallit-nunavummiullu-gathering-inuit-from-greenland-and-nunavut/
LOCATION:Alaska
CATEGORIES:Event
END:VEVENT
END:VCALENDAR