BEGIN:VCALENDAR
VERSION:2.0
PRODID:-//North Star Group - ECPv6.15.17.1//NONSGML v1.0//EN
CALSCALE:GREGORIAN
METHOD:PUBLISH
X-ORIGINAL-URL:https://northstargrp.com
X-WR-CALDESC:Events for North Star Group
REFRESH-INTERVAL;VALUE=DURATION:PT1H
X-Robots-Tag:noindex
X-PUBLISHED-TTL:PT1H
BEGIN:VTIMEZONE
TZID:UTC
BEGIN:STANDARD
TZOFFSETFROM:+0000
TZOFFSETTO:+0000
TZNAME:UTC
DTSTART:20240101T000000
END:STANDARD
END:VTIMEZONE
BEGIN:VTIMEZONE
TZID:America/Anchorage
BEGIN:DAYLIGHT
TZOFFSETFROM:-0900
TZOFFSETTO:-0800
TZNAME:AKDT
DTSTART:20240310T110000
END:DAYLIGHT
BEGIN:STANDARD
TZOFFSETFROM:-0800
TZOFFSETTO:-0900
TZNAME:AKST
DTSTART:20241103T100000
END:STANDARD
BEGIN:DAYLIGHT
TZOFFSETFROM:-0900
TZOFFSETTO:-0800
TZNAME:AKDT
DTSTART:20250309T110000
END:DAYLIGHT
BEGIN:STANDARD
TZOFFSETFROM:-0800
TZOFFSETTO:-0900
TZNAME:AKST
DTSTART:20251102T100000
END:STANDARD
BEGIN:DAYLIGHT
TZOFFSETFROM:-0900
TZOFFSETTO:-0800
TZNAME:AKDT
DTSTART:20260308T110000
END:DAYLIGHT
BEGIN:STANDARD
TZOFFSETFROM:-0800
TZOFFSETTO:-0900
TZNAME:AKST
DTSTART:20261101T100000
END:STANDARD
END:VTIMEZONE
BEGIN:VEVENT
DTSTART;TZID=UTC:20251006T000000
DTEND;TZID=UTC:20251008T000000
DTSTAMP:20260420T201202
CREATED:20250817T141548Z
LAST-MODIFIED:20250817T141548Z
UID:23147-1759708800-1759881600@northstargrp.com
SUMMARY:American Assoc. of Port Authorities Annual Convention
DESCRIPTION:All Day
URL:https://northstargrp.com/events-calendar/american-assoc-of-port-authorities-annual-convention-2/
LOCATION:Alaska
CATEGORIES:Conference
END:VEVENT
BEGIN:VEVENT
DTSTART;TZID=UTC:20251006T000000
DTEND;TZID=UTC:20251008T235959
DTSTAMP:20260420T201202
CREATED:20250402T082724Z
LAST-MODIFIED:20250402T082724Z
UID:22639-1759708800-1759967999@northstargrp.com
SUMMARY:American Assoc. of Port Authorites Annual Convention
DESCRIPTION:All Day
URL:https://northstargrp.com/events-calendar/american-assoc-of-port-authorites-annual-convention/
LOCATION:Alaska
CATEGORIES:Conference
END:VEVENT
BEGIN:VEVENT
DTSTART;TZID=UTC:20251006T000000
DTEND;TZID=UTC:20251008T235959
DTSTAMP:20260420T201202
CREATED:20250711T025420Z
LAST-MODIFIED:20250711T025420Z
UID:22854-1759708800-1759967999@northstargrp.com
SUMMARY:American Assoc. of Port Authorities Annual Convention
DESCRIPTION:All Day
URL:https://northstargrp.com/events-calendar/american-assoc-of-port-authorities-annual-convention/
LOCATION:Alaska
CATEGORIES:Conference
END:VEVENT
BEGIN:VEVENT
DTSTART;TZID=America/Anchorage:20251006T000000
DTEND;TZID=America/Anchorage:20251010T000000
DTSTAMP:20260420T201202
CREATED:20251022T185412Z
LAST-MODIFIED:20251022T185412Z
UID:23227-1759708800-1760054400@northstargrp.com
SUMMARY:7th International Symposium on River Science
DESCRIPTION:All Day
URL:https://northstargrp.com/events-calendar/7th-international-symposium-on-river-science/
LOCATION:Alaska
CATEGORIES:Symposium
END:VEVENT
BEGIN:VEVENT
DTSTART;TZID=UTC:20251007T000000
DTEND;TZID=UTC:20251008T000000
DTSTAMP:20260420T201202
CREATED:20250817T141549Z
LAST-MODIFIED:20250817T141549Z
UID:23148-1759795200-1759881600@northstargrp.com
SUMMARY:Co-Creative Community Workshop: Biocultural Heritage and Climate Adaptation in Arctic Cities
DESCRIPTION:9am-5pm
URL:https://northstargrp.com/events-calendar/co-creative-community-workshop-biocultural-heritage-and-climate-adaptation-in-arctic-cities/
LOCATION:Alaska
CATEGORIES:Workshop
END:VEVENT
BEGIN:VEVENT
DTSTART;TZID=UTC:20251007T000000
DTEND;TZID=UTC:20251009T000000
DTSTAMP:20260420T201202
CREATED:20250711T025433Z
LAST-MODIFIED:20250711T025433Z
UID:22855-1759795200-1759968000@northstargrp.com
SUMMARY:Critical Arctic Studies Symposium
DESCRIPTION:9-5pm
URL:https://northstargrp.com/events-calendar/critical-arctic-studies-symposium/
LOCATION:Alaska
CATEGORIES:Conference
END:VEVENT
END:VCALENDAR