BEGIN:VCALENDAR
VERSION:2.0
PRODID:-//North Star Group - ECPv6.15.17.1//NONSGML v1.0//EN
CALSCALE:GREGORIAN
METHOD:PUBLISH
X-ORIGINAL-URL:https://northstargrp.com
X-WR-CALDESC:Events for North Star Group
REFRESH-INTERVAL;VALUE=DURATION:PT1H
X-Robots-Tag:noindex
X-PUBLISHED-TTL:PT1H
BEGIN:VTIMEZONE
TZID:UTC
BEGIN:STANDARD
TZOFFSETFROM:+0000
TZOFFSETTO:+0000
TZNAME:UTC
DTSTART:20240101T000000
END:STANDARD
END:VTIMEZONE
BEGIN:VTIMEZONE
TZID:America/Anchorage
BEGIN:DAYLIGHT
TZOFFSETFROM:-0900
TZOFFSETTO:-0800
TZNAME:AKDT
DTSTART:20240310T110000
END:DAYLIGHT
BEGIN:STANDARD
TZOFFSETFROM:-0800
TZOFFSETTO:-0900
TZNAME:AKST
DTSTART:20241103T100000
END:STANDARD
BEGIN:DAYLIGHT
TZOFFSETFROM:-0900
TZOFFSETTO:-0800
TZNAME:AKDT
DTSTART:20250309T110000
END:DAYLIGHT
BEGIN:STANDARD
TZOFFSETFROM:-0800
TZOFFSETTO:-0900
TZNAME:AKST
DTSTART:20251102T100000
END:STANDARD
BEGIN:DAYLIGHT
TZOFFSETFROM:-0900
TZOFFSETTO:-0800
TZNAME:AKDT
DTSTART:20260308T110000
END:DAYLIGHT
BEGIN:STANDARD
TZOFFSETFROM:-0800
TZOFFSETTO:-0900
TZNAME:AKST
DTSTART:20261101T100000
END:STANDARD
END:VTIMEZONE
BEGIN:VEVENT
DTSTART;TZID=UTC:20251207T070000
DTEND;TZID=UTC:20251212T170000
DTSTAMP:20260420T150225
CREATED:20250711T025635Z
LAST-MODIFIED:20251124T064144Z
UID:22899-1765090800-1765558800@northstargrp.com
SUMMARY:American Exploration & Mining Association Annual Meeting
DESCRIPTION:AEMA’s Annual Meeting and Exposition is the longest-running\, and second-largest annual mining convention in the U.S. \nOur Annual Meeting brings together American mining industry leaders and provides important networking and social opportunities. Join AEMA this year in Sparks/Reno\, Nevada for the 130th Annual Meeting at the Nugget Casino Resort.
URL:https://northstargrp.com/events-calendar/american-exploration-mining-association-annual-meeting-10/
LOCATION:Nugget Casino & Resort\, Reno\, NV\, United States
CATEGORIES:Conference
END:VEVENT
BEGIN:VEVENT
DTSTART;TZID=America/Anchorage:20251212T103000
DTEND;TZID=America/Anchorage:20251212T103000
DTSTAMP:20260420T150225
CREATED:20251125T050652Z
LAST-MODIFIED:20251125T054738Z
UID:23551-1765535400-1765535400@northstargrp.com
SUMMARY:2025 Anchorage Super Tour
DESCRIPTION:This is the second stop on the 2025 Alaska SuperTour hosted in Anchorage\, AK. NSAA is excited to welcome top xc ski racers in the US to race for SuperTour points and qualification efforts toward the 2026 Olympic team.
URL:https://northstargrp.com/events-calendar/2025-anchorage-super-tour/
LOCATION:Alaska
END:VEVENT
END:VCALENDAR