BEGIN:VCALENDAR
VERSION:2.0
PRODID:-//North Star Group - ECPv6.15.17.1//NONSGML v1.0//EN
CALSCALE:GREGORIAN
METHOD:PUBLISH
X-WR-CALNAME:North Star Group
X-ORIGINAL-URL:https://northstargrp.com
X-WR-CALDESC:Events for North Star Group
REFRESH-INTERVAL;VALUE=DURATION:PT1H
X-Robots-Tag:noindex
X-PUBLISHED-TTL:PT1H
BEGIN:VTIMEZONE
TZID:UTC
BEGIN:STANDARD
TZOFFSETFROM:+0000
TZOFFSETTO:+0000
TZNAME:UTC
DTSTART:20240101T000000
END:STANDARD
END:VTIMEZONE
BEGIN:VEVENT
DTSTART;TZID=UTC:20251215T090000
DTEND;TZID=UTC:20251219T160000
DTSTAMP:20260420T164318
CREATED:20250817T142049Z
LAST-MODIFIED:20251124T070040Z
UID:23170-1765789200-1766160000@northstargrp.com
SUMMARY:American Geophysical Union (AGU) 2025
DESCRIPTION:Join thousands of scientists\, educators\, and policymakers at the premier Earth and space science conference 15-19 December in New Orleans\, Louisiana. Explore groundbreaking research\, connect with global experts\, and shape the future of our planet.
URL:https://northstargrp.com/events-calendar/american-geophysical-union-agu-2025/
LOCATION:Alaska
CATEGORIES:Conference
END:VEVENT
END:VCALENDAR