BEGIN:VCALENDAR
VERSION:2.0
PRODID:-//North Star Group - ECPv6.15.17.1//NONSGML v1.0//EN
CALSCALE:GREGORIAN
METHOD:PUBLISH
X-WR-CALNAME:North Star Group
X-ORIGINAL-URL:https://northstargrp.com
X-WR-CALDESC:Events for North Star Group
REFRESH-INTERVAL;VALUE=DURATION:PT1H
X-Robots-Tag:noindex
X-PUBLISHED-TTL:PT1H
BEGIN:VTIMEZONE
TZID:America/Anchorage
BEGIN:DAYLIGHT
TZOFFSETFROM:-0900
TZOFFSETTO:-0800
TZNAME:AKDT
DTSTART:20240310T110000
END:DAYLIGHT
BEGIN:STANDARD
TZOFFSETFROM:-0800
TZOFFSETTO:-0900
TZNAME:AKST
DTSTART:20241103T100000
END:STANDARD
BEGIN:DAYLIGHT
TZOFFSETFROM:-0900
TZOFFSETTO:-0800
TZNAME:AKDT
DTSTART:20250309T110000
END:DAYLIGHT
BEGIN:STANDARD
TZOFFSETFROM:-0800
TZOFFSETTO:-0900
TZNAME:AKST
DTSTART:20251102T100000
END:STANDARD
BEGIN:DAYLIGHT
TZOFFSETFROM:-0900
TZOFFSETTO:-0800
TZNAME:AKDT
DTSTART:20260308T110000
END:DAYLIGHT
BEGIN:STANDARD
TZOFFSETFROM:-0800
TZOFFSETTO:-0900
TZNAME:AKST
DTSTART:20261101T100000
END:STANDARD
END:VTIMEZONE
BEGIN:VTIMEZONE
TZID:UTC
BEGIN:STANDARD
TZOFFSETFROM:+0000
TZOFFSETTO:+0000
TZNAME:UTC
DTSTART:20240101T000000
END:STANDARD
END:VTIMEZONE
BEGIN:VEVENT
DTSTART;TZID=America/Anchorage:20251129T100000
DTEND;TZID=America/Anchorage:20251129T100000
DTSTAMP:20260420T185928
CREATED:20251123T064529Z
LAST-MODIFIED:20251125T054712Z
UID:23476-1764410400-1764410400@northstargrp.com
SUMMARY:2025 Holiday Bazaar
DESCRIPTION:Join us Nov. 29\, from 10 a.m. to 4 p.m.\, to support local artists with your holiday shopping. Vendors include several Native craftspeople and a few non-Native artists. Our indoor event will also include the popular silent auction and by-donation snacks and drinks.
URL:https://northstargrp.com/events-calendar/2025-holiday-bazaar/
LOCATION:Alaska
END:VEVENT
BEGIN:VEVENT
DTSTART;TZID=America/Anchorage:20251128T100000
DTEND;TZID=America/Anchorage:20251128T100000
DTSTAMP:20260420T185928
CREATED:20251125T050603Z
LAST-MODIFIED:20251125T054712Z
UID:23539-1764324000-1764324000@northstargrp.com
SUMMARY:Holiday Bazaar
DESCRIPTION:The Hotel Captain Cook is excited to welcome you back to our 4th Annual Holiday Bazaar! Shop from over 60 local Made-In-Alaska vendors and find the perfect gifts for friends and family\, all in the comfort of our Discovery Ballroom. Enjoy live entertainment\, delicious food\, and plenty of holiday cheer!
URL:https://northstargrp.com/events-calendar/holiday-bazaar/
LOCATION:Alaska
END:VEVENT
BEGIN:VEVENT
DTSTART;TZID=America/Anchorage:20251128T100000
DTEND;TZID=America/Anchorage:20251128T100000
DTSTAMP:20260420T185928
CREATED:20251118T210816Z
LAST-MODIFIED:20251125T054712Z
UID:23417-1764324000-1764324000@northstargrp.com
SUMMARY:Crafted in Alaska
DESCRIPTION:Browse through a curated selection of handmade treasures\, from jewelry and textile art to pottery and printed designs at the museum’s annual holiday craft event
URL:https://northstargrp.com/events-calendar/crafted-in-alaska/
LOCATION:Anchorage Museum\, Anchorage\, AK\, United States
END:VEVENT
BEGIN:VEVENT
DTSTART;TZID=America/Anchorage:20251128T000000
DTEND;TZID=America/Anchorage:20251130T000000
DTSTAMP:20260420T185928
CREATED:20251022T185857Z
LAST-MODIFIED:20251022T185857Z
UID:23254-1764288000-1764460800@northstargrp.com
SUMMARY:Black Friday Event
DESCRIPTION:All Day
URL:https://northstargrp.com/events-calendar/black-friday-event/
LOCATION:Alaska
CATEGORIES:Event
END:VEVENT
BEGIN:VEVENT
DTSTART;TZID=America/Anchorage:20251126T140000
DTEND;TZID=America/Anchorage:20251126T140000
DTSTAMP:20260420T185928
CREATED:20251121T072617Z
LAST-MODIFIED:20251125T054711Z
UID:23453-1764165600-1764165600@northstargrp.com
SUMMARY:Indigenous Procurement Event
DESCRIPTION:CCIB’s Supply Change team is hosting a full-day Indigenous Procurement Event which includes a series of panel discussions\, networking opportunities\, and a tradeshow component.
URL:https://northstargrp.com/events-calendar/indigenous-procurement-event-3/
LOCATION:Alaska
END:VEVENT
BEGIN:VEVENT
DTSTART;TZID=UTC:20251126T000000
DTEND;TZID=UTC:20251126T235959
DTSTAMP:20260420T185928
CREATED:20250711T025634Z
LAST-MODIFIED:20250711T033539Z
UID:22895-1764115200-1764201599@northstargrp.com
SUMMARY:Indigenous Procurement Event
DESCRIPTION:All Day
URL:https://northstargrp.com/events-calendar/indigenous-procurement-event/
LOCATION:Alaska
CATEGORIES:Event
END:VEVENT
BEGIN:VEVENT
DTSTART;TZID=UTC:20251126T000000
DTEND;TZID=UTC:20251126T000000
DTSTAMP:20260420T185928
CREATED:20250817T141950Z
LAST-MODIFIED:20250817T141950Z
UID:23165-1764115200-1764115200@northstargrp.com
SUMMARY:Indigenous Procurement Event
DESCRIPTION:All Day
URL:https://northstargrp.com/events-calendar/indigenous-procurement-event-2/
LOCATION:Alaska
CATEGORIES:Event
END:VEVENT
BEGIN:VEVENT
DTSTART;TZID=America/Anchorage:20251125T000000
DTEND;TZID=America/Anchorage:20251125T235959
DTSTAMP:20260420T185928
CREATED:20251125T054711Z
LAST-MODIFIED:20251125T054711Z
UID:23569-1764028800-1764115199@northstargrp.com
SUMMARY:OECD Latin American Rural Development Conference
DESCRIPTION:Rural-Urban Connections: Pathways to Sustainable Development
URL:https://northstargrp.com/events-calendar/oecd-latin-american-rural-development-conference-6/
LOCATION:Alaska
END:VEVENT
BEGIN:VEVENT
DTSTART;TZID=America/Anchorage:20251125T000000
DTEND;TZID=America/Anchorage:20251125T235959
DTSTAMP:20260420T185928
CREATED:20251125T054710Z
LAST-MODIFIED:20251125T054710Z
UID:23568-1764028800-1764115199@northstargrp.com
SUMMARY:OECD Latin American Rural Development Conference
DESCRIPTION:Rural-Urban Connections: Pathways to Sustainable Development
URL:https://northstargrp.com/events-calendar/oecd-latin-american-rural-development-conference-5/
LOCATION:Alaska
END:VEVENT
BEGIN:VEVENT
DTSTART;TZID=America/Anchorage:20251125T000000
DTEND;TZID=America/Anchorage:20251125T235959
DTSTAMP:20260420T185928
CREATED:20251125T050605Z
LAST-MODIFIED:20251125T050605Z
UID:23541-1764028800-1764115199@northstargrp.com
SUMMARY:OECD Latin American Rural Development Conference
DESCRIPTION:Rural-Urban Connections: Pathways to Sustainable Development
URL:https://northstargrp.com/events-calendar/oecd-latin-american-rural-development-conference-4/
LOCATION:Alaska
END:VEVENT
BEGIN:VEVENT
DTSTART;TZID=America/Anchorage:20251125T000000
DTEND;TZID=America/Anchorage:20251125T235959
DTSTAMP:20260420T185928
CREATED:20251125T050601Z
LAST-MODIFIED:20251125T050601Z
UID:23536-1764028800-1764115199@northstargrp.com
SUMMARY:OECD Latin American Rural Development Conference
DESCRIPTION:Rural-Urban Connections: Pathways to Sustainable Development
URL:https://northstargrp.com/events-calendar/oecd-latin-american-rural-development-conference-3/
LOCATION:Alaska
END:VEVENT
BEGIN:VEVENT
DTSTART;TZID=America/Anchorage:20251125T000000
DTEND;TZID=America/Anchorage:20251125T235959
DTSTAMP:20260420T185928
CREATED:20251123T064514Z
LAST-MODIFIED:20251123T064514Z
UID:23475-1764028800-1764115199@northstargrp.com
SUMMARY:OECD Latin American Rural Development Conference
DESCRIPTION:Rural-Urban Connections: Pathways to Sustainable Development
URL:https://northstargrp.com/events-calendar/oecd-latin-american-rural-development-conference-2/
LOCATION:Alaska
END:VEVENT
BEGIN:VEVENT
DTSTART;TZID=America/Anchorage:20251125T000000
DTEND;TZID=America/Anchorage:20251125T235959
DTSTAMP:20260420T185928
CREATED:20251121T072616Z
LAST-MODIFIED:20251121T072616Z
UID:23452-1764028800-1764115199@northstargrp.com
SUMMARY:OECD Latin American Rural Development Conference
DESCRIPTION:Rural-Urban Connections: Pathways to Sustainable Development
URL:https://northstargrp.com/events-calendar/oecd-latin-american-rural-development-conference/
LOCATION:Alaska
END:VEVENT
BEGIN:VEVENT
DTSTART;TZID=UTC:20251125T000000
DTEND;TZID=UTC:20251125T000000
DTSTAMP:20260420T185928
CREATED:20250711T025625Z
LAST-MODIFIED:20250711T025625Z
UID:22894-1764028800-1764028800@northstargrp.com
SUMMARY:BECC 2025 Conference
DESCRIPTION:All Day
URL:https://northstargrp.com/events-calendar/becc-2025-conference/
LOCATION:Alaska
CATEGORIES:Conference
END:VEVENT
BEGIN:VEVENT
DTSTART;TZID=UTC:20251124T090000
DTEND;TZID=UTC:20251124T100000
DTSTAMP:20260420T185928
CREATED:20250711T025625Z
LAST-MODIFIED:20250711T032459Z
UID:22893-1763974800-1763978400@northstargrp.com
SUMMARY:Infrastructure Office Hour
DESCRIPTION:9am-10am
URL:https://northstargrp.com/events-calendar/infrastructure-office-hour-21/
LOCATION:Alaska
CATEGORIES:Webinar
END:VEVENT
BEGIN:VEVENT
DTSTART;TZID=UTC:20251124T000000
DTEND;TZID=UTC:20251124T000000
DTSTAMP:20260420T185928
CREATED:20250817T141919Z
LAST-MODIFIED:20250817T141919Z
UID:23164-1763942400-1763942400@northstargrp.com
SUMMARY:Infrastructure Office Hour
DESCRIPTION:9am-10am
URL:https://northstargrp.com/events-calendar/infrastructure-office-hour-23/
LOCATION:Alaska
CATEGORIES:Webinar
END:VEVENT
BEGIN:VEVENT
DTSTART;TZID=America/Anchorage:20251122T180000
DTEND;TZID=America/Anchorage:20251125T193000
DTSTAMP:20260420T185928
CREATED:20251119T075706Z
LAST-MODIFIED:20251125T054702Z
UID:23432-1763834400-1764099000@northstargrp.com
SUMMARY:National Native American Heritage Month Book Reading: “How to Survive: Practicing Care in a Changing Climate”
DESCRIPTION:Artists and writers in the Anchorage Museum’s new book\, How to Survive: Practicing Care in a Changing Climate\, consider how love\, protection\, nurturing\, and sharing can help us navigate climate change.
URL:https://northstargrp.com/events-calendar/national-native-american-heritage-month-book-reading-how-to-survive-practicing-care-in-a-changing-climate/
LOCATION:Anchorage Museum\, Anchorage\, AK\, United States
END:VEVENT
BEGIN:VEVENT
DTSTART;TZID=America/Anchorage:20251120T000000
DTEND;TZID=America/Anchorage:20251122T000000
DTSTAMP:20260420T185928
CREATED:20251022T185842Z
LAST-MODIFIED:20251022T185842Z
UID:23252-1763596800-1763769600@northstargrp.com
SUMMARY:Waves of Innovation
DESCRIPTION:All Day
URL:https://northstargrp.com/events-calendar/waves-of-innovation/
LOCATION:Alaska
CATEGORIES:Event
END:VEVENT
BEGIN:VEVENT
DTSTART;TZID=America/Anchorage:20251120T000000
DTEND;TZID=America/Anchorage:20251120T235959
DTSTAMP:20260420T185928
CREATED:20251125T054702Z
LAST-MODIFIED:20251125T054702Z
UID:23566-1763596800-1763683199@northstargrp.com
SUMMARY:Waves of Innovation
DESCRIPTION:Meet and connect with industry experts\, vendors\, and speakers. Who could you meet at Pacific Marine Expo?
URL:https://northstargrp.com/events-calendar/waves-of-innovation-5/
LOCATION:Alaska
END:VEVENT
BEGIN:VEVENT
DTSTART;TZID=America/Anchorage:20251120T000000
DTEND;TZID=America/Anchorage:20251120T235959
DTSTAMP:20260420T185928
CREATED:20251125T054702Z
LAST-MODIFIED:20251125T054702Z
UID:23567-1763596800-1763683199@northstargrp.com
SUMMARY:MiningTech North America Conference and Exhibition
DESCRIPTION:This event will focus on AI\, digital transformation and decarbonization strategies for the green mining future in a circular economy.
URL:https://northstargrp.com/events-calendar/miningtech-north-america-conference-and-exhibition-7/
LOCATION:Vancouver Convention Centre\, Vancouver\, BC\, United States
END:VEVENT
BEGIN:VEVENT
DTSTART;TZID=America/Anchorage:20251120T000000
DTEND;TZID=America/Anchorage:20251120T235959
DTSTAMP:20260420T185928
CREATED:20251125T050552Z
LAST-MODIFIED:20251125T050552Z
UID:23533-1763596800-1763683199@northstargrp.com
SUMMARY:MiningTech North America Conference and Exhibition
DESCRIPTION:This event will focus on AI\, digital transformation and decarbonization strategies for the green mining future in a circular economy.
URL:https://northstargrp.com/events-calendar/miningtech-north-america-conference-and-exhibition-6/
LOCATION:Vancouver Convention Centre\, Vancouver\, BC\, United States
END:VEVENT
BEGIN:VEVENT
DTSTART;TZID=America/Anchorage:20251120T000000
DTEND;TZID=America/Anchorage:20251120T235959
DTSTAMP:20260420T185928
CREATED:20251125T050551Z
LAST-MODIFIED:20251125T050551Z
UID:23532-1763596800-1763683199@northstargrp.com
SUMMARY:Waves of Innovation
DESCRIPTION:Meet and connect with industry experts\, vendors\, and speakers. Who could you meet at Pacific Marine Expo?
URL:https://northstargrp.com/events-calendar/waves-of-innovation-4/
LOCATION:Alaska
END:VEVENT
BEGIN:VEVENT
DTSTART;TZID=America/Anchorage:20251120T000000
DTEND;TZID=America/Anchorage:20251120T235959
DTSTAMP:20260420T185928
CREATED:20251123T064513Z
LAST-MODIFIED:20251123T064513Z
UID:23474-1763596800-1763683199@northstargrp.com
SUMMARY:MiningTech North America Conference and Exhibition
DESCRIPTION:This event will focus on AI\, digital transformation and decarbonization strategies for the green mining future in a circular economy.
URL:https://northstargrp.com/events-calendar/miningtech-north-america-conference-and-exhibition-5/
LOCATION:Vancouver Convention Centre\, Vancouver\, BC\, United States
END:VEVENT
BEGIN:VEVENT
DTSTART;TZID=America/Anchorage:20251120T000000
DTEND;TZID=America/Anchorage:20251120T235959
DTSTAMP:20260420T185928
CREATED:20251123T064512Z
LAST-MODIFIED:20251123T064512Z
UID:23473-1763596800-1763683199@northstargrp.com
SUMMARY:Waves of Innovation
DESCRIPTION:Meet and connect with industry experts\, vendors\, and speakers. Who could you meet at Pacific Marine Expo?
URL:https://northstargrp.com/events-calendar/waves-of-innovation-3/
LOCATION:Alaska
END:VEVENT
BEGIN:VEVENT
DTSTART;TZID=America/Anchorage:20251120T000000
DTEND;TZID=America/Anchorage:20251120T235959
DTSTAMP:20260420T185928
CREATED:20251121T072616Z
LAST-MODIFIED:20251121T072616Z
UID:23451-1763596800-1763683199@northstargrp.com
SUMMARY:MiningTech North America Conference and Exhibition
DESCRIPTION:This event will focus on AI\, digital transformation and decarbonization strategies for the green mining future in a circular economy.
URL:https://northstargrp.com/events-calendar/miningtech-north-america-conference-and-exhibition-4/
LOCATION:Vancouver Convention Centre\, Vancouver\, BC\, United States
END:VEVENT
BEGIN:VEVENT
DTSTART;TZID=America/Anchorage:20251120T000000
DTEND;TZID=America/Anchorage:20251120T235959
DTSTAMP:20260420T185928
CREATED:20251121T072615Z
LAST-MODIFIED:20251121T072615Z
UID:23450-1763596800-1763683199@northstargrp.com
SUMMARY:Waves of Innovation
DESCRIPTION:Meet and connect with industry experts\, vendors\, and speakers. Who could you meet at Pacific Marine Expo?
URL:https://northstargrp.com/events-calendar/waves-of-innovation-2/
LOCATION:Alaska
END:VEVENT
BEGIN:VEVENT
DTSTART;TZID=America/Anchorage:20251120T000000
DTEND;TZID=America/Anchorage:20251120T000000
DTSTAMP:20260420T185928
CREATED:20251022T185843Z
LAST-MODIFIED:20251022T185843Z
UID:23253-1763596800-1763596800@northstargrp.com
SUMMARY:American Association for the Advancement of Science
DESCRIPTION:2:30-8:30pm
URL:https://northstargrp.com/events-calendar/american-association-for-the-advancement-of-science/
LOCATION:Alaska
CATEGORIES:Lecture
END:VEVENT
BEGIN:VEVENT
DTSTART;TZID=UTC:20251120T000000
DTEND;TZID=UTC:20251120T000000
DTSTAMP:20260420T185928
CREATED:20250711T025624Z
LAST-MODIFIED:20250711T025624Z
UID:22892-1763596800-1763596800@northstargrp.com
SUMMARY:Breakfast Forum
DESCRIPTION:7am-8:30am
URL:https://northstargrp.com/events-calendar/breakfast-forum-4/
LOCATION:Alaska
CATEGORIES:Forum
END:VEVENT
BEGIN:VEVENT
DTSTART;TZID=America/Anchorage:20251119T100000
DTEND;TZID=America/Anchorage:20251125T110000
DTSTAMP:20260420T185928
CREATED:20251121T072600Z
LAST-MODIFIED:20251125T054702Z
UID:23446-1763546400-1764068400@northstargrp.com
SUMMARY:All Coalitions Meeting
DESCRIPTION:NUICC welcomes researchers from across Turtle Island to our monthly Community of Practice\, our Urban Indigenous Knowledge Mobilisation Hub monthly meetup.
URL:https://northstargrp.com/events-calendar/all-coalitions-meeting-2/
LOCATION:Alaska
END:VEVENT
BEGIN:VEVENT
DTSTART;TZID=America/Anchorage:20251118T190000
DTEND;TZID=America/Anchorage:20251118T210000
DTSTAMP:20260420T185928
CREATED:20251117T213432Z
LAST-MODIFIED:20251117T213442Z
UID:23408-1763492400-1763499600@northstargrp.com
SUMMARY:Arctic Entries: Roots & Wings
DESCRIPTION:Explore stories of traditions\, bridging worlds\, and finding your path as seven individuals share true stories about themselves\, and musical performance.
URL:https://northstargrp.com/events-calendar/arctic-entries-roots-wings/
LOCATION:Alaska Center for Performing Arts\, 621 W Sixth Ave\, Anchorage\, Alaska\, 99501
END:VEVENT
END:VCALENDAR