BEGIN:VCALENDAR
VERSION:2.0
PRODID:-//North Star Group - ECPv6.15.17.1//NONSGML v1.0//EN
CALSCALE:GREGORIAN
METHOD:PUBLISH
X-WR-CALNAME:North Star Group
X-ORIGINAL-URL:https://northstargrp.com
X-WR-CALDESC:Events for North Star Group
REFRESH-INTERVAL;VALUE=DURATION:PT1H
X-Robots-Tag:noindex
X-PUBLISHED-TTL:PT1H
BEGIN:VTIMEZONE
TZID:UTC
BEGIN:STANDARD
TZOFFSETFROM:+0000
TZOFFSETTO:+0000
TZNAME:UTC
DTSTART:20240101T000000
END:STANDARD
END:VTIMEZONE
BEGIN:VTIMEZONE
TZID:America/Anchorage
BEGIN:DAYLIGHT
TZOFFSETFROM:-0900
TZOFFSETTO:-0800
TZNAME:AKDT
DTSTART:20240310T110000
END:DAYLIGHT
BEGIN:STANDARD
TZOFFSETFROM:-0800
TZOFFSETTO:-0900
TZNAME:AKST
DTSTART:20241103T100000
END:STANDARD
BEGIN:DAYLIGHT
TZOFFSETFROM:-0900
TZOFFSETTO:-0800
TZNAME:AKDT
DTSTART:20250309T110000
END:DAYLIGHT
BEGIN:STANDARD
TZOFFSETFROM:-0800
TZOFFSETTO:-0900
TZNAME:AKST
DTSTART:20251102T100000
END:STANDARD
BEGIN:DAYLIGHT
TZOFFSETFROM:-0900
TZOFFSETTO:-0800
TZNAME:AKDT
DTSTART:20260308T110000
END:DAYLIGHT
BEGIN:STANDARD
TZOFFSETFROM:-0800
TZOFFSETTO:-0900
TZNAME:AKST
DTSTART:20261101T100000
END:STANDARD
END:VTIMEZONE
BEGIN:VEVENT
DTSTART;TZID=UTC:20250929T000000
DTEND;TZID=UTC:20251002T000000
DTSTAMP:20260420T203015
CREATED:20250817T141521Z
LAST-MODIFIED:20250817T141521Z
UID:23146-1759104000-1759363200@northstargrp.com
SUMMARY:Arctic PASSION Symposium
DESCRIPTION:All Day
URL:https://northstargrp.com/events-calendar/arctic-passion-symposium/
LOCATION:Alaska
CATEGORIES:Symposium
END:VEVENT
BEGIN:VEVENT
DTSTART;TZID=UTC:20250929T000000
DTEND;TZID=UTC:20251003T000000
DTSTAMP:20260420T203015
CREATED:20250711T025419Z
LAST-MODIFIED:20250711T025419Z
UID:22851-1759104000-1759449600@northstargrp.com
SUMMARY:Alaska Entrepreneurship Week
DESCRIPTION:All Day
URL:https://northstargrp.com/events-calendar/alaska-entrepreneurship-week/
LOCATION:Alaska
CATEGORIES:Event
END:VEVENT
BEGIN:VEVENT
DTSTART;TZID=UTC:20250929T000000
DTEND;TZID=UTC:20251003T000000
DTSTAMP:20260420T203015
CREATED:20250817T141520Z
LAST-MODIFIED:20250817T141520Z
UID:23145-1759104000-1759449600@northstargrp.com
SUMMARY:Geostatistical Evaluation
DESCRIPTION:All Day
URL:https://northstargrp.com/events-calendar/geostatistical-evaluation/
LOCATION:Alaska
CATEGORIES:Seminar
END:VEVENT
BEGIN:VEVENT
DTSTART;TZID=UTC:20250929T000000
DTEND;TZID=UTC:20251005T000000
DTSTAMP:20260420T203016
CREATED:20250711T025419Z
LAST-MODIFIED:20250711T025419Z
UID:22850-1759104000-1759622400@northstargrp.com
SUMMARY:Naapinneq – Inuit Kalaallit Nunavummiullu/ Gathering – Inuit from Greenland and Nunavut
DESCRIPTION:All Day
URL:https://northstargrp.com/events-calendar/naapinneq-inuit-kalaallit-nunavummiullu-gathering-inuit-from-greenland-and-nunavut/
LOCATION:Alaska
CATEGORIES:Event
END:VEVENT
BEGIN:VEVENT
DTSTART;TZID=UTC:20251002T000000
DTEND;TZID=UTC:20251002T000000
DTSTAMP:20260420T203016
CREATED:20250711T025419Z
LAST-MODIFIED:20250711T025419Z
UID:22852-1759363200-1759363200@northstargrp.com
SUMMARY:Breakfast Forum
DESCRIPTION:7am-8:30am
URL:https://northstargrp.com/events-calendar/breakfast-forum-2/
LOCATION:Alaska
CATEGORIES:Forum
END:VEVENT
BEGIN:VEVENT
DTSTART;TZID=America/Anchorage:20251002T000000
DTEND;TZID=America/Anchorage:20251002T000000
DTSTAMP:20260420T203016
CREATED:20251022T185412Z
LAST-MODIFIED:20251022T185412Z
UID:23226-1759363200-1759363200@northstargrp.com
SUMMARY:Built environments for a cooler planet: Sustainable urbanization pathways for the world of 2075
DESCRIPTION:1pm-6pm
URL:https://northstargrp.com/events-calendar/built-environments-for-a-cooler-planet-sustainable-urbanization-pathways-for-the-world-of-2075/
LOCATION:Alaska
CATEGORIES:Event
END:VEVENT
BEGIN:VEVENT
DTSTART;TZID=UTC:20251006T000000
DTEND;TZID=UTC:20251006T000000
DTSTAMP:20260420T203016
CREATED:20250711T025420Z
LAST-MODIFIED:20250711T025420Z
UID:22853-1759708800-1759708800@northstargrp.com
SUMMARY:Infrastructure Office Hour
DESCRIPTION:9am-10am
URL:https://northstargrp.com/events-calendar/infrastructure-office-hour-14/
LOCATION:Alaska
CATEGORIES:Webinar
END:VEVENT
BEGIN:VEVENT
DTSTART;TZID=UTC:20251006T000000
DTEND;TZID=UTC:20251008T000000
DTSTAMP:20260420T203016
CREATED:20250817T141548Z
LAST-MODIFIED:20250817T141548Z
UID:23147-1759708800-1759881600@northstargrp.com
SUMMARY:American Assoc. of Port Authorities Annual Convention
DESCRIPTION:All Day
URL:https://northstargrp.com/events-calendar/american-assoc-of-port-authorities-annual-convention-2/
LOCATION:Alaska
CATEGORIES:Conference
END:VEVENT
BEGIN:VEVENT
DTSTART;TZID=UTC:20251006T000000
DTEND;TZID=UTC:20251008T235959
DTSTAMP:20260420T203016
CREATED:20250402T082724Z
LAST-MODIFIED:20250402T082724Z
UID:22639-1759708800-1759967999@northstargrp.com
SUMMARY:American Assoc. of Port Authorites Annual Convention
DESCRIPTION:All Day
URL:https://northstargrp.com/events-calendar/american-assoc-of-port-authorites-annual-convention/
LOCATION:Alaska
CATEGORIES:Conference
END:VEVENT
BEGIN:VEVENT
DTSTART;TZID=UTC:20251006T000000
DTEND;TZID=UTC:20251008T235959
DTSTAMP:20260420T203016
CREATED:20250711T025420Z
LAST-MODIFIED:20250711T025420Z
UID:22854-1759708800-1759967999@northstargrp.com
SUMMARY:American Assoc. of Port Authorities Annual Convention
DESCRIPTION:All Day
URL:https://northstargrp.com/events-calendar/american-assoc-of-port-authorities-annual-convention/
LOCATION:Alaska
CATEGORIES:Conference
END:VEVENT
BEGIN:VEVENT
DTSTART;TZID=America/Anchorage:20251006T000000
DTEND;TZID=America/Anchorage:20251010T000000
DTSTAMP:20260420T203016
CREATED:20251022T185412Z
LAST-MODIFIED:20251022T185412Z
UID:23227-1759708800-1760054400@northstargrp.com
SUMMARY:7th International Symposium on River Science
DESCRIPTION:All Day
URL:https://northstargrp.com/events-calendar/7th-international-symposium-on-river-science/
LOCATION:Alaska
CATEGORIES:Symposium
END:VEVENT
BEGIN:VEVENT
DTSTART;TZID=UTC:20251007T000000
DTEND;TZID=UTC:20251008T000000
DTSTAMP:20260420T203016
CREATED:20250817T141549Z
LAST-MODIFIED:20250817T141549Z
UID:23148-1759795200-1759881600@northstargrp.com
SUMMARY:Co-Creative Community Workshop: Biocultural Heritage and Climate Adaptation in Arctic Cities
DESCRIPTION:9am-5pm
URL:https://northstargrp.com/events-calendar/co-creative-community-workshop-biocultural-heritage-and-climate-adaptation-in-arctic-cities/
LOCATION:Alaska
CATEGORIES:Workshop
END:VEVENT
BEGIN:VEVENT
DTSTART;TZID=UTC:20251007T000000
DTEND;TZID=UTC:20251009T000000
DTSTAMP:20260420T203016
CREATED:20250711T025433Z
LAST-MODIFIED:20250711T025433Z
UID:22855-1759795200-1759968000@northstargrp.com
SUMMARY:Critical Arctic Studies Symposium
DESCRIPTION:9-5pm
URL:https://northstargrp.com/events-calendar/critical-arctic-studies-symposium/
LOCATION:Alaska
CATEGORIES:Conference
END:VEVENT
BEGIN:VEVENT
DTSTART;TZID=UTC:20251008T000000
DTEND;TZID=UTC:20251008T000000
DTSTAMP:20260420T203016
CREATED:20250711T025434Z
LAST-MODIFIED:20250711T025434Z
UID:22856-1759881600-1759881600@northstargrp.com
SUMMARY:Journalistic Experience from the Global Stage w/the World Press Insitute
DESCRIPTION:7pm
URL:https://northstargrp.com/events-calendar/journalistic-experience-from-the-global-stage-w-the-world-press-insitute/
LOCATION:Alaska
CATEGORIES:Event
END:VEVENT
BEGIN:VEVENT
DTSTART;TZID=UTC:20251008T000000
DTEND;TZID=UTC:20251008T000000
DTSTAMP:20260420T203016
CREATED:20250711T025434Z
LAST-MODIFIED:20250711T025434Z
UID:22858-1759881600-1759881600@northstargrp.com
SUMMARY:Indigenous Relations Forum and PAIR Awards
DESCRIPTION:All Day
URL:https://northstargrp.com/events-calendar/indigenous-relations-forum-and-pair-awards/
LOCATION:Alaska
CATEGORIES:Forum
END:VEVENT
BEGIN:VEVENT
DTSTART;TZID=UTC:20251008T000000
DTEND;TZID=UTC:20251008T000000
DTSTAMP:20260420T203016
CREATED:20250817T141550Z
LAST-MODIFIED:20250817T141550Z
UID:23149-1759881600-1759881600@northstargrp.com
SUMMARY:The Future of Critical Minerals and National Security: 2025 CSIS-West Point Conference
DESCRIPTION:10am-3pm
URL:https://northstargrp.com/events-calendar/the-future-of-critical-minerals-and-national-security-2025-csis-west-point-conference/
LOCATION:Alaska
CATEGORIES:Conference
END:VEVENT
BEGIN:VEVENT
DTSTART;TZID=UTC:20251008T000000
DTEND;TZID=UTC:20251010T000000
DTSTAMP:20260420T203016
CREATED:20250711T025434Z
LAST-MODIFIED:20250711T025434Z
UID:22857-1759881600-1760054400@northstargrp.com
SUMMARY:Alaska Business Summit
DESCRIPTION:All Day
URL:https://northstargrp.com/events-calendar/alaska-business-summit/
LOCATION:Alaska
CATEGORIES:Summit
END:VEVENT
BEGIN:VEVENT
DTSTART;TZID=America/Anchorage:20251010T000000
DTEND;TZID=America/Anchorage:20251010T000000
DTSTAMP:20260420T203016
CREATED:20251022T185530Z
LAST-MODIFIED:20251022T185530Z
UID:23229-1760054400-1760054400@northstargrp.com
SUMMARY:New insights on American views of Ukraine\, Russia\, and the war
DESCRIPTION:10am ET
URL:https://northstargrp.com/events-calendar/new-insights-on-american-views-of-ukraine-russia-and-the-war/
LOCATION:Alaska
CATEGORIES:Conference
END:VEVENT
BEGIN:VEVENT
DTSTART;TZID=America/Anchorage:20251010T000000
DTEND;TZID=America/Anchorage:20251017T000000
DTSTAMP:20260420T203016
CREATED:20251022T185529Z
LAST-MODIFIED:20251022T185529Z
UID:23228-1760054400-1760659200@northstargrp.com
SUMMARY:LME Metals Week 2025
DESCRIPTION:5pm
URL:https://northstargrp.com/events-calendar/lme-metals-week-2025/
LOCATION:Alaska
CATEGORIES:Seminar
END:VEVENT
BEGIN:VEVENT
DTSTART;TZID=America/Anchorage:20251011T000000
DTEND;TZID=America/Anchorage:20251011T000000
DTSTAMP:20260420T203016
CREATED:20251022T185530Z
LAST-MODIFIED:20251022T185530Z
UID:23230-1760140800-1760140800@northstargrp.com
SUMMARY:British Antarctic Survey at Big Biology Day\, Cambridge
DESCRIPTION:11am-4pm
URL:https://northstargrp.com/events-calendar/british-antarctic-survey-at-big-biology-day-cambridge/
LOCATION:Alaska
CATEGORIES:Event
END:VEVENT
BEGIN:VEVENT
DTSTART;TZID=UTC:20251012T000000
DTEND;TZID=UTC:20251015T000000
DTSTAMP:20260420T203016
CREATED:20250711T025434Z
LAST-MODIFIED:20250711T025434Z
UID:22859-1760227200-1760486400@northstargrp.com
SUMMARY:42nd Annual Statewide Elders & Youth Conference
DESCRIPTION:All Day
URL:https://northstargrp.com/events-calendar/42nd-annual-statewide-elders-youth-conference/
LOCATION:Alaska
CATEGORIES:Conference
END:VEVENT
BEGIN:VEVENT
DTSTART;TZID=UTC:20251013T000000
DTEND;TZID=UTC:20251013T000000
DTSTAMP:20260420T203016
CREATED:20250711T025450Z
LAST-MODIFIED:20250711T025450Z
UID:22860-1760313600-1760313600@northstargrp.com
SUMMARY:Infrastructure Office Hour
DESCRIPTION:9am-10am
URL:https://northstargrp.com/events-calendar/infrastructure-office-hour-15/
LOCATION:Alaska
CATEGORIES:Webinar
END:VEVENT
BEGIN:VEVENT
DTSTART;TZID=America/Anchorage:20251014T000000
DTEND;TZID=America/Anchorage:20251014T000000
DTSTAMP:20260420T203016
CREATED:20251022T185542Z
LAST-MODIFIED:20251022T185542Z
UID:23231-1760400000-1760400000@northstargrp.com
SUMMARY:Interface for the Ocean We Want ~ A Sustainable Ocean Economy for All
DESCRIPTION:3:00pm-4:45pm
URL:https://northstargrp.com/events-calendar/interface-for-the-ocean-we-want-a-sustainable-ocean-economy-for-all/
LOCATION:Alaska
CATEGORIES:Event
END:VEVENT
BEGIN:VEVENT
DTSTART;TZID=America/Anchorage:20251014T000000
DTEND;TZID=America/Anchorage:20251014T000000
DTSTAMP:20260420T203016
CREATED:20251022T185542Z
LAST-MODIFIED:20251022T185542Z
UID:23232-1760400000-1760400000@northstargrp.com
SUMMARY:AI for Climate Science seminar series: ???????AI for (sub)seasonal forecasting - boosting predictability and understanding teleconnections
DESCRIPTION:2pm-3:30pm CET
URL:https://northstargrp.com/events-calendar/ai-for-climate-science-seminar-series-ai-for-subseasonal-forecasting-boosting-predictability-and-understanding-teleconnections/
LOCATION:Alaska
CATEGORIES:Webinar
END:VEVENT
BEGIN:VEVENT
DTSTART;TZID=UTC:20251014T000000
DTEND;TZID=UTC:20251016T000000
DTSTAMP:20260420T203016
CREATED:20250711T025450Z
LAST-MODIFIED:20250711T025450Z
UID:22861-1760400000-1760572800@northstargrp.com
SUMMARY:Seismological Society of America Environmental Seismology Topical Conference
DESCRIPTION:All Day
URL:https://northstargrp.com/events-calendar/seismological-society-of-america-environmental-seismology-topical-conference/
LOCATION:Alaska
CATEGORIES:Conference
END:VEVENT
BEGIN:VEVENT
DTSTART;TZID=UTC:20251015T000000
DTEND;TZID=UTC:20251017T000000
DTSTAMP:20260420T203016
CREATED:20250711T025450Z
LAST-MODIFIED:20250711T025450Z
UID:22862-1760486400-1760659200@northstargrp.com
SUMMARY:Regional Leadership Conference: 2025
DESCRIPTION:All Day
URL:https://northstargrp.com/events-calendar/regional-leadership-conference-2025-3/
LOCATION:Alaska
CATEGORIES:Conference
END:VEVENT
BEGIN:VEVENT
DTSTART;TZID=UTC:20251016T000000
DTEND;TZID=UTC:20251016T000000
DTSTAMP:20260420T203016
CREATED:20250711T025450Z
LAST-MODIFIED:20250711T025450Z
UID:22863-1760572800-1760572800@northstargrp.com
SUMMARY:Breakfast Forum
DESCRIPTION:7am-8:30am
URL:https://northstargrp.com/events-calendar/breakfast-forum-3/
LOCATION:Alaska
CATEGORIES:Forum
END:VEVENT
BEGIN:VEVENT
DTSTART;TZID=UTC:20251016T000000
DTEND;TZID=UTC:20251018T000000
DTSTAMP:20260420T203016
CREATED:20250817T141653Z
LAST-MODIFIED:20250817T141653Z
UID:23150-1760572800-1760745600@northstargrp.com
SUMMARY:Alaska Federation of Natives
DESCRIPTION:All Day
URL:https://northstargrp.com/events-calendar/alaska-federation-of-natives-5/
LOCATION:Alaska
CATEGORIES:Convention
END:VEVENT
BEGIN:VEVENT
DTSTART;TZID=UTC:20251016T000000
DTEND;TZID=UTC:20251018T000000
DTSTAMP:20260420T203016
CREATED:20250817T141654Z
LAST-MODIFIED:20250817T141654Z
UID:23151-1760572800-1760745600@northstargrp.com
SUMMARY:2025 Arctic Circle Assembly
DESCRIPTION:All Day
URL:https://northstargrp.com/events-calendar/2025-arctic-circle-assembly-3/
LOCATION:Alaska
CATEGORIES:Conference
END:VEVENT
BEGIN:VEVENT
DTSTART;TZID=UTC:20251016T000000
DTEND;TZID=UTC:20251018T235959
DTSTAMP:20260420T203016
CREATED:20250402T082739Z
LAST-MODIFIED:20250402T082739Z
UID:22644-1760572800-1760831999@northstargrp.com
SUMMARY:Alaska Federation of Natives
DESCRIPTION:All Day
URL:https://northstargrp.com/events-calendar/alaska-federation-of-natives-3/
LOCATION:Alaska
CATEGORIES:Conference
END:VEVENT
END:VCALENDAR