BEGIN:VCALENDAR
VERSION:2.0
PRODID:-//North Star Group - ECPv6.15.17.1//NONSGML v1.0//EN
CALSCALE:GREGORIAN
METHOD:PUBLISH
X-WR-CALNAME:North Star Group
X-ORIGINAL-URL:https://northstargrp.com
X-WR-CALDESC:Events for North Star Group
REFRESH-INTERVAL;VALUE=DURATION:PT1H
X-Robots-Tag:noindex
X-PUBLISHED-TTL:PT1H
BEGIN:VTIMEZONE
TZID:UTC
BEGIN:STANDARD
TZOFFSETFROM:+0000
TZOFFSETTO:+0000
TZNAME:UTC
DTSTART:20240101T000000
END:STANDARD
END:VTIMEZONE
BEGIN:VTIMEZONE
TZID:America/Anchorage
BEGIN:DAYLIGHT
TZOFFSETFROM:-0900
TZOFFSETTO:-0800
TZNAME:AKDT
DTSTART:20240310T110000
END:DAYLIGHT
BEGIN:STANDARD
TZOFFSETFROM:-0800
TZOFFSETTO:-0900
TZNAME:AKST
DTSTART:20241103T100000
END:STANDARD
BEGIN:DAYLIGHT
TZOFFSETFROM:-0900
TZOFFSETTO:-0800
TZNAME:AKDT
DTSTART:20250309T110000
END:DAYLIGHT
BEGIN:STANDARD
TZOFFSETFROM:-0800
TZOFFSETTO:-0900
TZNAME:AKST
DTSTART:20251102T100000
END:STANDARD
BEGIN:DAYLIGHT
TZOFFSETFROM:-0900
TZOFFSETTO:-0800
TZNAME:AKDT
DTSTART:20260308T110000
END:DAYLIGHT
BEGIN:STANDARD
TZOFFSETFROM:-0800
TZOFFSETTO:-0900
TZNAME:AKST
DTSTART:20261101T100000
END:STANDARD
END:VTIMEZONE
BEGIN:VEVENT
DTSTART;TZID=UTC:20251020T000000
DTEND;TZID=UTC:20251030T000000
DTSTAMP:20260420T202942
CREATED:20250711T025504Z
LAST-MODIFIED:20250711T025504Z
UID:22868-1760918400-1761782400@northstargrp.com
SUMMARY:New Insights in Polar Law
DESCRIPTION:All Day
URL:https://northstargrp.com/events-calendar/new-insights-in-polar-law/
LOCATION:Alaska
CATEGORIES:Event
END:VEVENT
BEGIN:VEVENT
DTSTART;TZID=UTC:20251028T000000
DTEND;TZID=UTC:20251029T235959
DTSTAMP:20260420T202942
CREATED:20250711T025534Z
LAST-MODIFIED:20250711T025534Z
UID:22876-1761609600-1761782399@northstargrp.com
SUMMARY:Svalbard Science Conference
DESCRIPTION:All Day
URL:https://northstargrp.com/events-calendar/svalbard-science-conference-4/
LOCATION:Alaska
CATEGORIES:Conference
END:VEVENT
BEGIN:VEVENT
DTSTART;TZID=UTC:20251028T000000
DTEND;TZID=UTC:20251030T000000
DTSTAMP:20260420T202942
CREATED:20250817T141825Z
LAST-MODIFIED:20250817T141825Z
UID:23156-1761609600-1761782400@northstargrp.com
SUMMARY:World Indigenous Business Forum (WIBF) 2025 Conference
DESCRIPTION:All Day
URL:https://northstargrp.com/events-calendar/world-indigenous-business-forum-wibf-2025-conference-2/
LOCATION:Alaska
CATEGORIES:Conference
END:VEVENT
BEGIN:VEVENT
DTSTART;TZID=UTC:20251028T000000
DTEND;TZID=UTC:20251030T235959
DTSTAMP:20260420T202942
CREATED:20250711T025535Z
LAST-MODIFIED:20250711T025535Z
UID:22877-1761609600-1761868799@northstargrp.com
SUMMARY:World Indigenous Business Forum (WIBF) 2025 Conference
DESCRIPTION:All Day
URL:https://northstargrp.com/events-calendar/world-indigenous-business-forum-wibf-2025-conference/
LOCATION:Alaska
CATEGORIES:Conference
END:VEVENT
BEGIN:VEVENT
DTSTART;TZID=UTC:20251028T000000
DTEND;TZID=UTC:20251031T000000
DTSTAMP:20260420T202942
CREATED:20250711T025534Z
LAST-MODIFIED:20250711T025534Z
UID:22875-1761609600-1761868800@northstargrp.com
SUMMARY:ISAR-8
DESCRIPTION:All Day
URL:https://northstargrp.com/events-calendar/isar-8/
LOCATION:Alaska
CATEGORIES:Conference
END:VEVENT
BEGIN:VEVENT
DTSTART;TZID=America/Anchorage:20251028T000000
DTEND;TZID=America/Anchorage:20251031T000000
DTSTAMP:20260420T202942
CREATED:20251022T185657Z
LAST-MODIFIED:20251022T185657Z
UID:23238-1761609600-1761868800@northstargrp.com
SUMMARY:8th international symposium on Arctic research
DESCRIPTION:All Day
URL:https://northstargrp.com/events-calendar/8th-international-symposium-on-arctic-research/
LOCATION:Alaska
CATEGORIES:Symposium
END:VEVENT
BEGIN:VEVENT
DTSTART;TZID=UTC:20251030T000000
DTEND;TZID=UTC:20251031T000000
DTSTAMP:20260420T202942
CREATED:20250817T141826Z
LAST-MODIFIED:20250817T141826Z
UID:23157-1761782400-1761868800@northstargrp.com
SUMMARY:National Snow Seminar
DESCRIPTION:All Day
URL:https://northstargrp.com/events-calendar/national-snow-seminar/
LOCATION:Alaska
CATEGORIES:Seminar
END:VEVENT
BEGIN:VEVENT
DTSTART;TZID=UTC:20251102T000000
DTEND;TZID=UTC:20251105T000000
DTSTAMP:20260420T202942
CREATED:20250817T141826Z
LAST-MODIFIED:20250817T141826Z
UID:23158-1762041600-1762300800@northstargrp.com
SUMMARY:Behavior\, Energy\, & Climate Change (BECC) Conference
DESCRIPTION:All Day
URL:https://northstargrp.com/events-calendar/behavior-energy-climate-change-becc-conference-3/
LOCATION:Alaska
CATEGORIES:Conference
END:VEVENT
BEGIN:VEVENT
DTSTART;TZID=UTC:20251102T000000
DTEND;TZID=UTC:20251105T235959
DTSTAMP:20260420T202942
CREATED:20250711T025535Z
LAST-MODIFIED:20250711T025535Z
UID:22878-1762041600-1762387199@northstargrp.com
SUMMARY:Behavior\, Energy\, & Climate Change (BECC) Conference
DESCRIPTION:All Day
URL:https://northstargrp.com/events-calendar/behavior-energy-climate-change-becc-conference-2/
LOCATION:Alaska
CATEGORIES:Conference
END:VEVENT
BEGIN:VEVENT
DTSTART;TZID=UTC:20251103T000000
DTEND;TZID=UTC:20251103T000000
DTSTAMP:20260420T202942
CREATED:20250711T025549Z
LAST-MODIFIED:20250711T025549Z
UID:22880-1762128000-1762128000@northstargrp.com
SUMMARY:Infrastructure Office Hour
DESCRIPTION:9am-10am
URL:https://northstargrp.com/events-calendar/infrastructure-office-hour-18/
LOCATION:Alaska
CATEGORIES:Webinar
END:VEVENT
BEGIN:VEVENT
DTSTART;TZID=America/Anchorage:20251103T000000
DTEND;TZID=America/Anchorage:20251103T000000
DTSTAMP:20260420T202942
CREATED:20251022T185712Z
LAST-MODIFIED:20251022T185712Z
UID:23242-1762128000-1762128000@northstargrp.com
SUMMARY:Edible Economics: A Hungry Economist Explains the World
DESCRIPTION:11am-12pm
URL:https://northstargrp.com/events-calendar/edible-economics-a-hungry-economist-explains-the-world/
LOCATION:Alaska
CATEGORIES:Webinar
END:VEVENT
BEGIN:VEVENT
DTSTART;TZID=UTC:20251103T000000
DTEND;TZID=UTC:20251104T000000
DTSTAMP:20260420T202942
CREATED:20250711T025535Z
LAST-MODIFIED:20250711T025535Z
UID:22879-1762128000-1762214400@northstargrp.com
SUMMARY:Annual General Meeting
DESCRIPTION:All Day
URL:https://northstargrp.com/events-calendar/annual-general-meeting/
LOCATION:Alaska
CATEGORIES:Meeting
END:VEVENT
BEGIN:VEVENT
DTSTART;TZID=America/Anchorage:20251103T000000
DTEND;TZID=America/Anchorage:20251104T000000
DTSTAMP:20260420T202942
CREATED:20251022T185712Z
LAST-MODIFIED:20251022T185712Z
UID:23243-1762128000-1762214400@northstargrp.com
SUMMARY:Removing Barriers to Entrepreneurship by Women
DESCRIPTION:All Day
URL:https://northstargrp.com/events-calendar/removing-barriers-to-entrepreneurship-by-women/
LOCATION:Alaska
CATEGORIES:Webinar
END:VEVENT
BEGIN:VEVENT
DTSTART;TZID=America/Anchorage:20251103T000000
DTEND;TZID=America/Anchorage:20251105T000000
DTSTAMP:20260420T202942
CREATED:20251022T185729Z
LAST-MODIFIED:20251022T185729Z
UID:23244-1762128000-1762300800@northstargrp.com
SUMMARY:IGF 21st Annual General Meeting
DESCRIPTION:All Day
URL:https://northstargrp.com/events-calendar/igf-21st-annual-general-meeting/
LOCATION:Alaska
CATEGORIES:Annual Meeting
END:VEVENT
BEGIN:VEVENT
DTSTART;TZID=UTC:20251103T000000
DTEND;TZID=UTC:20251106T000000
DTSTAMP:20260420T202942
CREATED:20250817T141834Z
LAST-MODIFIED:20250817T141834Z
UID:23159-1762128000-1762387200@northstargrp.com
SUMMARY:Alaska Miners Association Annual Convention
DESCRIPTION:All Day
URL:https://northstargrp.com/events-calendar/alaska-miners-association-annual-convention-3/
LOCATION:Alaska
CATEGORIES:Conference
END:VEVENT
BEGIN:VEVENT
DTSTART;TZID=UTC:20251103T000000
DTEND;TZID=UTC:20251106T235959
DTSTAMP:20260420T202942
CREATED:20250711T025549Z
LAST-MODIFIED:20250711T025549Z
UID:22881-1762128000-1762473599@northstargrp.com
SUMMARY:Alaska Miners Association Annual Convention
DESCRIPTION:All Day
URL:https://northstargrp.com/events-calendar/alaska-miners-association-annual-convention-2/
LOCATION:Alaska
CATEGORIES:Conference
END:VEVENT
BEGIN:VEVENT
DTSTART;TZID=America/Anchorage:20251104T000000
DTEND;TZID=America/Anchorage:20251105T000000
DTSTAMP:20260420T202942
CREATED:20251022T185730Z
LAST-MODIFIED:20251022T185730Z
UID:23245-1762214400-1762300800@northstargrp.com
SUMMARY:OECD Investment Days
DESCRIPTION:All Day
URL:https://northstargrp.com/events-calendar/oecd-investment-days/
LOCATION:Alaska
CATEGORIES:Webinar
END:VEVENT
BEGIN:VEVENT
DTSTART;TZID=UTC:20251104T000000
DTEND;TZID=UTC:20251106T000000
DTSTAMP:20260420T202942
CREATED:20250711T025549Z
LAST-MODIFIED:20250711T025549Z
UID:22883-1762214400-1762387200@northstargrp.com
SUMMARY:Capital Projects Symposium
DESCRIPTION:All Dat
URL:https://northstargrp.com/events-calendar/capital-projects-symposium/
LOCATION:Alaska
CATEGORIES:Symposium
END:VEVENT
BEGIN:VEVENT
DTSTART;TZID=UTC:20251104T000000
DTEND;TZID=UTC:20251107T000000
DTSTAMP:20260420T202942
CREATED:20250817T141835Z
LAST-MODIFIED:20250817T141835Z
UID:23160-1762214400-1762473600@northstargrp.com
SUMMARY:40th International Polar Symposium
DESCRIPTION:All Day
URL:https://northstargrp.com/events-calendar/40th-international-polar-symposium-5/
LOCATION:Alaska
CATEGORIES:Conference
END:VEVENT
BEGIN:VEVENT
DTSTART;TZID=UTC:20251104T000000
DTEND;TZID=UTC:20251107T235959
DTSTAMP:20260420T202942
CREATED:20250711T025549Z
LAST-MODIFIED:20250711T025549Z
UID:22882-1762214400-1762559999@northstargrp.com
SUMMARY:40th International Polar Symposium
DESCRIPTION:All Day
URL:https://northstargrp.com/events-calendar/40th-international-polar-symposium-4/
LOCATION:Alaska
CATEGORIES:Conference
END:VEVENT
BEGIN:VEVENT
DTSTART;TZID=UTC:20251105T000000
DTEND;TZID=UTC:20251106T000000
DTSTAMP:20260420T202942
CREATED:20250817T141835Z
LAST-MODIFIED:20250817T141835Z
UID:23161-1762300800-1762387200@northstargrp.com
SUMMARY:2025 Annual Confernece
DESCRIPTION:9am
URL:https://northstargrp.com/events-calendar/2025-annual-confernece/
LOCATION:Alaska
CATEGORIES:Conference
END:VEVENT
BEGIN:VEVENT
DTSTART;TZID=UTC:20251107T000000
DTEND;TZID=UTC:20251109T000000
DTSTAMP:20260420T202942
CREATED:20250711T025549Z
LAST-MODIFIED:20250711T025549Z
UID:22884-1762473600-1762646400@northstargrp.com
SUMMARY:Sitka Whalefest
DESCRIPTION:All Day
URL:https://northstargrp.com/events-calendar/sitka-whalefest/
LOCATION:Alaska
CATEGORIES:Festival
END:VEVENT
BEGIN:VEVENT
DTSTART;TZID=America/Anchorage:20251107T000000
DTEND;TZID=America/Anchorage:20251114T000000
DTSTAMP:20260420T202942
CREATED:20251022T185742Z
LAST-MODIFIED:20251022T185742Z
UID:23246-1762473600-1763078400@northstargrp.com
SUMMARY:Greenland Science Week
DESCRIPTION:All Day
URL:https://northstargrp.com/events-calendar/greenland-science-week-3/
LOCATION:Alaska
CATEGORIES:Conference
END:VEVENT
BEGIN:VEVENT
DTSTART;TZID=UTC:20251108T000000
DTEND;TZID=UTC:20251114T000000
DTSTAMP:20260420T202942
CREATED:20250817T141911Z
LAST-MODIFIED:20250817T141911Z
UID:23162-1762560000-1763078400@northstargrp.com
SUMMARY:North Pacific Marine Science Organization (PICES) 2025 Annual Meeting
DESCRIPTION:All Day
URL:https://northstargrp.com/events-calendar/north-pacific-marine-science-organization-pices-2025-annual-meeting-3/
LOCATION:Alaska
CATEGORIES:Conference
END:VEVENT
BEGIN:VEVENT
DTSTART;TZID=UTC:20251108T000000
DTEND;TZID=UTC:20251114T235959
DTSTAMP:20260420T202942
CREATED:20250711T025603Z
LAST-MODIFIED:20250711T025603Z
UID:22885-1762560000-1763164799@northstargrp.com
SUMMARY:North Pacific Marine Science Organization (PICES) 2025 Annual Meeting
DESCRIPTION:All Day
URL:https://northstargrp.com/events-calendar/north-pacific-marine-science-organization-pices-2025-annual-meeting-2/
LOCATION:Alaska
CATEGORIES:Conference
END:VEVENT
BEGIN:VEVENT
DTSTART;TZID=America/Anchorage:20251109T000000
DTEND;TZID=America/Anchorage:20251114T000000
DTSTAMP:20260420T202942
CREATED:20251022T185743Z
LAST-MODIFIED:20251022T185743Z
UID:23247-1762646400-1763078400@northstargrp.com
SUMMARY:Underwater Minerals Conference
DESCRIPTION:All Day
URL:https://northstargrp.com/events-calendar/underwater-minerals-conference-5/
LOCATION:Alaska
CATEGORIES:Conference
END:VEVENT
BEGIN:VEVENT
DTSTART;TZID=America/Anchorage:20251109T100000
DTEND;TZID=America/Anchorage:20251119T110000
DTSTAMP:20260420T202942
CREATED:20251119T075704Z
LAST-MODIFIED:20251119T075704Z
UID:23430-1762682400-1763550000@northstargrp.com
SUMMARY:All Coalitions Meeting
DESCRIPTION:NUICC welcomes researchers from across Turtle Island to our monthly Community of Practice\, our Urban Indigenous Knowledge Mobilisation Hub monthly meetup.
URL:https://northstargrp.com/events-calendar/all-coalitions-meeting/
LOCATION:Alaska
END:VEVENT
BEGIN:VEVENT
DTSTART;TZID=UTC:20251110T000000
DTEND;TZID=UTC:20251110T000000
DTSTAMP:20260420T202942
CREATED:20250711T025604Z
LAST-MODIFIED:20250711T025604Z
UID:22887-1762732800-1762732800@northstargrp.com
SUMMARY:Infrastructure Office Hour
DESCRIPTION:9am-10am
URL:https://northstargrp.com/events-calendar/infrastructure-office-hour-19/
LOCATION:Alaska
CATEGORIES:Webinar
END:VEVENT
BEGIN:VEVENT
DTSTART;TZID=UTC:20251110T000000
DTEND;TZID=UTC:20251114T000000
DTSTAMP:20260420T202942
CREATED:20250711T025603Z
LAST-MODIFIED:20250711T025603Z
UID:22886-1762732800-1763078400@northstargrp.com
SUMMARY:Greenland Science Conference
DESCRIPTION:All Day
URL:https://northstargrp.com/events-calendar/greenland-science-conference/
LOCATION:Alaska
CATEGORIES:Conference
END:VEVENT
BEGIN:VEVENT
DTSTART;TZID=America/Anchorage:20251112T000000
DTEND;TZID=America/Anchorage:20251112T000000
DTSTAMP:20260420T202942
CREATED:20251022T185812Z
LAST-MODIFIED:20251022T185812Z
UID:23249-1762905600-1762905600@northstargrp.com
SUMMARY:Diplomacy Amid Conflict: Navigating U.S. Engagement in Ukraine and Beyond with Ambassador William Taylor
DESCRIPTION:12pm-1pm
URL:https://northstargrp.com/events-calendar/diplomacy-amid-conflict-navigating-u-s-engagement-in-ukraine-and-beyond-with-ambassador-william-taylor/
LOCATION:Alaska
CATEGORIES:Lecture
END:VEVENT
END:VCALENDAR